BEGIN:VCALENDAR
VERSION:2.0
PRODID:-//wp-events-plugin.com//7.2.3.1//EN
TZID:Europe/Rome
X-WR-TIMEZONE:Europe/Rome
BEGIN:VEVENT
UID:764@confindustriatoscanacentroecosta.it
DTSTART;TZID=Europe/Rome:20260506T150000
DTEND;TZID=Europe/Rome:20260506T163000
DTSTAMP:20260420T154117Z
URL:https://confindustriatoscanacentroecosta.it/eventi/legge-di-bilancio-l
 e-novita-di-welfare-fringe-benefit-e-ticket-restaurant/
SUMMARY:Legge di bilancio: le novità di welfare\, fringe benefit e Ticket 
 Restaurant
DESCRIPTION:La Legge di Bilancio 2026 ridefinisce il perimetro di welfare a
 ziendale\, fringe benefit e buoni pastoIn un contesto normativo in evoluzi
 one\, la Legge di Bilancio 2026 ridefinisce il perimetro di welfare aziend
 ale\, fringe benefit e buoni pasto. Per trasformare queste novità in risu
 ltati concreti servono soluzioni semplici da implementare ma capaci di gen
 erare impatti misurabili su benessere\, engagement e ottimizzazione del co
 sto del lavoro.I buoni pasto Ticket Restaurant®\, i buoni acquisto e le p
 iattaforme di welfare sono strumenti immediati per aumentare il potere d
 ’acquisto\, sostenere l’equilibrio vita‑lavoro e migliorare l’espe
 rienza delle persone.L’incontro\, organizzato con Confindustria Toscana 
 Centro e Costa\, offrirà una guida chiara per trasformare i nuovi benefic
 i fiscali in un’opportunità concreta: dalla riduzione del cuneo fiscale
  alla valorizzazione del benessere dei dipendenti\, con strumenti semplici
 \, flessibili e vantaggiosi.Programma:15:00 Saluti di apertura a cura di S
 ilvia Donnini\, Consigliere delegato Area Lavoro e Relazioni Industriali C
 onfindustria Toscana Centro e Costa15:10 "Evoluzione e prospettive del wel
 fare aziendale in Italia" a cura di Emmanuele Massagli\, Presidente AIWA15
 :40 "Dal quadro normativo all'implementazione di soluzioni di welfare azie
 ndale" a cura di Edenred Italia16:20 Q&amp\;A16:30 Conclusioni Daniele Sgu
 anci Amministratore Delegato Confindustria Servizi Centro e Costa
ATTACH;FMTTYPE=image/jpeg:https://confindustriatoscanacentroecosta.it/wp-c
 ontent/uploads/2026/04/396101_image.jpg
CATEGORIES:Eventbrite
LOCATION:Online Event\, Online Event\, 
X-APPLE-STRUCTURED-LOCATION;VALUE=URI;X-ADDRESS=Online Event\, ;X-APPLE-RAD
 IUS=100;X-TITLE=Online Event:geo:0,0
END:VEVENT
BEGIN:VTIMEZONE
TZID:Europe/Rome
X-LIC-LOCATION:Europe/Rome
BEGIN:DAYLIGHT
DTSTART:20260329T030000
TZOFFSETFROM:+0100
TZOFFSETTO:+0200
TZNAME:CEST
END:DAYLIGHT
END:VTIMEZONE
END:VCALENDAR