BEGIN:VCALENDAR
VERSION:2.0
PRODID:-//wp-events-plugin.com//7.2.3.1//EN
TZID:Europe/Rome
X-WR-TIMEZONE:Europe/Rome
BEGIN:VEVENT
UID:524@confindustriatoscanacentroecosta.it
DTSTART;TZID=Europe/Rome:20221202T143000
DTEND;TZID=Europe/Rome:20221202T163000
DTSTAMP:20221130T074910Z
URL:https://confindustriatoscanacentroecosta.it/eventi/i-rifiuti-da-attivi
 ta-di-manutenzione-facciamo-il-punto/
SUMMARY:I rifiuti da attività di manutenzione: facciamo il punto
DESCRIPTION:Prosegue la nostra collaborazione con il Roadshow CONAI 2022. I
 l 2 dicembre 2022\, dalle ore 14:30 alle ore 16:30 sarà organizzato un we
 binar dal titolo “I rifiuti da attività di manutenzione: facciamo il pu
 nto”.\n\n Tutte le imprese affidano ad appaltatori specializzati la man
 utenzione del processo produttivo\, degli impianti dell’edificio\, dei c
 arrelli elevatori e di molti altri beni. Chi deve gestire i rifiuti deriva
 nti dalle attività di manutenzione? Il committente deve esercitare un’a
 ttività di controllo sulla gestione dei rifiuti derivanti dalla manutenzi
 one? Quali novità sono state introdotte in materia di deposito temporaneo
  e trasporto dei rifiuti da manutenzione?\n\nPer registrarsi al webinar ec
 co il link da comunicare:\n\nhttps://www.eventbrite.it/e/biglietti-webinar
 -i-rifiuti-da-attivita-di-manutenzione-facciamo-il-punto-474564474117
ATTACH;FMTTYPE=image/jpeg:https://confindustriatoscanacentroecosta.it/wp-c
 ontent/uploads/2022/11/plumber-gd6cba095f_1920-1.jpg
END:VEVENT
BEGIN:VTIMEZONE
TZID:Europe/Rome
X-LIC-LOCATION:Europe/Rome
BEGIN:STANDARD
DTSTART:20221030T020000
TZOFFSETFROM:+0200
TZOFFSETTO:+0100
TZNAME:CET
END:STANDARD
END:VTIMEZONE
END:VCALENDAR