BEGIN:VCALENDAR
VERSION:2.0
PRODID:-//wp-events-plugin.com//7.2.3.1//EN
TZID:Europe/Rome
X-WR-TIMEZONE:Europe/Rome
BEGIN:VEVENT
UID:766@confindustriatoscanacentroecosta.it
DTSTART;TZID=Europe/Rome:20260506T160000
DTEND;TZID=Europe/Rome:20260506T183000
DTSTAMP:20260423T092817Z
URL:https://confindustriatoscanacentroecosta.it/eventi/gestione-rischi-e-r
 esponsabilita-in-eventi-catastrofali/
SUMMARY:Gestione rischi e responsabilità in eventi catastrofali
DESCRIPTION:La valutazione e gestione del rischio emergenziale\, gli obblig
 hi assicurativi\n\n\n\nI continui e imprevedibili eventi legati ai cambiam
 enti climatici impongono al Datore di lavoro di adottare una puntuale valu
 tazione di tutti i possibili rischi di natura ambientale che possono coinv
 olgere i propri collaboratori\, inoltre la legge 231/2023 introduce l’ob
 bligo assicurativo contro i rischi catastrofali (terremoti\, alluvioni\, f
 rane\, inondazioni ed esondazioni)\, per i terreni\, fabbricati\, impianti
  e macchinari\, attrezzature industriali e commerciali. Il Presidio territ
 oriale Mugello Valdisieve di Confindustria Toscana Centro e Costa ha organ
 izzato un approfondimento degli obblighi normativi\, delle modalità opera
 tive e delle opportunità offerte dalle nuove disposizioni\, con particola
 re attenzione agli aspetti pratici\, alle implicazioni economiche e alle r
 esponsabilità del Datore di lavoro.\n\nProgramma\n\nSaluti – Massimo Fe
 rrati\n\n"La Polizza Cat Nat: aggiornamento sulla polizza assicurativa per
  le catastrofi naturali" – Fabio Boni – Assiboni\n\n"Il sistema di Pro
 tezione Civile regionale: prevenzione\, previsione e gestione delle Emerge
 nze" - Bernardo Mazzanti – Dirigente Settore Protezione Civile Regionale
  / Settore Idrologico e Geologico Regionale – Regione Toscana\, Direzion
 e Difesa del Suolo e Protezione Civile\n\n"Rischi naturali: mappatura e mi
 sure di mitigazione" – Riccardo Martelli – Componente del Consiglio Na
 zionale dei Geologi\n\n“Le responsabilità del datore di lavoro nella ge
 stione delle emergenze durante un’allerta meteo” – Michele D’Avirr
 o\, Studio legale D’Avirro.\n\nQ&amp\;A\n\nAperitivo di networking\n\n\n
ATTACH;FMTTYPE=image/jpeg:https://confindustriatoscanacentroecosta.it/wp-c
 ontent/uploads/2026/04/396138_image.jpg
CATEGORIES:Eventbrite
LOCATION:Mugello Circuit\, 15 Località Senni\, 50038 Scarperia e San Piero
 \, Scarperia e San Piero\, Toscana\, 50038\, Italia
GEO:43.991006;11.370313
X-APPLE-STRUCTURED-LOCATION;VALUE=URI;X-ADDRESS=15 Località Senni\, 50038 
 Scarperia e San Piero\, Scarperia e San Piero\, Toscana\, 50038\, Italia;X
 -APPLE-RADIUS=100;X-TITLE=Mugello Circuit:geo:43.991006,11.370313
END:VEVENT
BEGIN:VTIMEZONE
TZID:Europe/Rome
X-LIC-LOCATION:Europe/Rome
BEGIN:DAYLIGHT
DTSTART:20260329T030000
TZOFFSETFROM:+0100
TZOFFSETTO:+0200
TZNAME:CEST
END:DAYLIGHT
END:VTIMEZONE
END:VCALENDAR