BEGIN:VCALENDAR
VERSION:2.0
PRODID:-//wp-events-plugin.com//7.2.3.1//EN
TZID:Europe/Rome
X-WR-TIMEZONE:Europe/Rome
BEGIN:VEVENT
UID:763@confindustriatoscanacentroecosta.it
DTSTART;TZID=Europe/Rome:20260512T160000
DTEND;TZID=Europe/Rome:20260512T173000
DTSTAMP:20260420T154113Z
URL:https://confindustriatoscanacentroecosta.it/eventi/azerbaigian-opportu
 nita-per-le-imprese/
SUMMARY:Azerbaigian: opportunità per le imprese
DESCRIPTION:L'evento appresenta un’occasione per acquisire informazioni o
 perative su un mercato di crescente interesse.ContestoIl prossimo 12 maggi
 o si terrà presso Confindustria Toscana Centro e Costa (Via Valfonda 9 - 
 Firenze) un seminario dedicato alle opportunità commerciali e d'investime
 nto offerte dall'Azerbaigian.il paese riveste un ruolo di crescente rileva
 nza strategica grazie alla sua posizione geografica tra Europa e Asia\, ch
 e lo rende un hub logistico ed energetico di primo piano\, nonché una des
 tinazione attrattiva per esportazioni ed investimenti produttivi.Contenuti
  e destinatariL’iniziativa è rivolta alle imprese interessate ad approf
 ondire il contesto economico del paese e ad esplorare possibili sviluppi n
 ei rapporti commerciali e industriali\, con particolare attenzione ai sett
 ori a maggiore potenziale di crescita. L’incontro offrirà testimonianze
  operative e casi concreti di attività già avviate sul mercato azero\, o
 ltre ad approfondimenti su aspetti legati al fare impresa e alle procedure
  di certificazione.Programma dei lavori16:00 - Saluti istituzionali• Ste
 fano Gabbrielli\, Vicepresidente di Confindustria Toscana Centro e Costa
 • S.E. Rashad Aslanov\, Ambasciatore della Repubblica dell’Azerbaigian
  in Italia16:15 – Interventi• Manuela Traldi\, Presidente Camera di Co
 mmercio Italo-Azerbaigiana\, AvvocatoDoing Business in Azerbaijan• Danie
 le Prioli\, Amministratore delegato di Geocom ItaliaCome trovare clienti i
 n Azerbaigian: il caso VICI• Viviana Liparulo\, Direttore Commerciale di
  G. A. ManualsCertificazione di conformità in Azerbaigian - AZS17:15 - Q&
 amp\;A17:30 ConclusioneCondizioni e modalità di partecipazioneLa partecip
 azione all'evento è gratuita. Per iscriversi\, occorre compilare il modul
 o disponibile nella presente pagina.
ATTACH;FMTTYPE=image/jpeg:https://confindustriatoscanacentroecosta.it/wp-c
 ontent/uploads/2026/04/396099_image.jpg
CATEGORIES:Eventbrite
LOCATION:Via Valfonda\, 9\, 9 Via Valfonda\, 50123 Firenze\, Firenze\, Tosc
 ana\, 50123\, Italia
GEO:43.778424;11.248658
X-APPLE-STRUCTURED-LOCATION;VALUE=URI;X-ADDRESS=9 Via Valfonda\, 50123 Fire
 nze\, Firenze\, Toscana\, 50123\, Italia;X-APPLE-RADIUS=100;X-TITLE=Via Va
 lfonda\, 9:geo:43.778424,11.248658
END:VEVENT
BEGIN:VTIMEZONE
TZID:Europe/Rome
X-LIC-LOCATION:Europe/Rome
BEGIN:DAYLIGHT
DTSTART:20260329T030000
TZOFFSETFROM:+0100
TZOFFSETTO:+0200
TZNAME:CEST
END:DAYLIGHT
END:VTIMEZONE
END:VCALENDAR