BEGIN:VCALENDAR
VERSION:2.0
PRODID:-//wp-events-plugin.com//7.2.3.1//EN
TZID:Europe/Rome
X-WR-TIMEZONE:Europe/Rome
BEGIN:VEVENT
UID:765@confindustriatoscanacentroecosta.it
DTSTART;TZID=Europe/Rome:20260429T100000
DTEND;TZID=Europe/Rome:20260429T120000
DTSTAMP:20260422T085943Z
URL:https://confindustriatoscanacentroecosta.it/eventi/396116/
SUMMARY:Roadshow ExPAnD - presentazione della piattaforma digitale per l'ex
 port
DESCRIPTION:Il prossimo 29 aprile\, alle ore 10:00\, Confindustria Toscana 
 ospiterà presso la propria sede (Via Valfonda 9 – Firenze) la presentaz
 ione di Expand\, la piattaforma digitale di Confindustria pensata per supp
 ortare imprese e territori nello sviluppo del proprio potenziale di export
 .\n\nL’evento rappresenta l’occasione per approfondire le funzionalit
 à operative della piattaforma che consente\, grazie a un sistema flessibi
 le basato su indicatori quantitativi selezionati\, di:\n\n 	stimare il pot
 enziale di crescita dell’export per prodotto e Paese\;\n 	individuare i 
 mercati in espansione e i settori più promettenti\;\n 	confrontare le per
 formance italiane con quelle dei principali competitor\;\n 	evidenziare ar
 ee di eccellenza e possibili margini di miglioramento.\n\nPrenderanno part
 e ai lavori  Maurizio Bigazzi\, Presidente di Confindustria Toscana\, Bar
 bara Cimmino\, Vice Presidente Confindustria con delega all’Export e all
 ’Attrazione degli investimenti\, Tullio Buccellato\, Centro Studi Confin
 dustria.\n\nSeguiranno un dibattito e le testimonianze di alcune imprese.\
 n\nPer partecipare all'evento\, occorre  registrarsi attraverso il modulo
  accesibile mediante il seguente collegamento: registrazione \n\nDi segui
 to il programma dei lavori:\n\nSaluti\nMaurizio Bigazzi  - Presidente Con
 findustria Toscana\n\nTrasformare i dati in scelte strategiche\nBarbara Ci
 mmino - Vice Presidente Confindustria con delega all’Export e all’Attr
 azione degli Investimenti\n\nExPAnD: la bussola strategica per l’export\
 nTullio Buccellato - Centro Studi Confindustria\n\nDibattito e testimonian
 ze
ATTACH;FMTTYPE=image/jpeg:https://confindustriatoscanacentroecosta.it/wp-c
 ontent/uploads/2026/03/Import-export.jpg
END:VEVENT
BEGIN:VTIMEZONE
TZID:Europe/Rome
X-LIC-LOCATION:Europe/Rome
BEGIN:DAYLIGHT
DTSTART:20260329T030000
TZOFFSETFROM:+0100
TZOFFSETTO:+0200
TZNAME:CEST
END:DAYLIGHT
END:VTIMEZONE
END:VCALENDAR